BEGIN:VCALENDAR
VERSION:2.0
PRODID:-//Alte Post - Bereich Jugendzentrum - ECPv5.16.1//NONSGML v1.0//EN
CALSCALE:GREGORIAN
METHOD:PUBLISH
X-WR-CALNAME:Alte Post - Bereich Jugendzentrum
X-ORIGINAL-URL:https://www.altepost.jugendinemden.de
X-WR-CALDESC:Veranstaltungen für Alte Post - Bereich Jugendzentrum
BEGIN:VTIMEZONE
TZID:Europe/Berlin
BEGIN:DAYLIGHT
TZOFFSETFROM:+0100
TZOFFSETTO:+0200
TZNAME:CEST
DTSTART:20170326T010000
END:DAYLIGHT
BEGIN:STANDARD
TZOFFSETFROM:+0200
TZOFFSETTO:+0100
TZNAME:CET
DTSTART:20171029T010000
END:STANDARD
END:VTIMEZONE
BEGIN:VEVENT
DTSTART;TZID=Europe/Berlin:20170621T190000
DTEND;TZID=Europe/Berlin:20170621T220000
DTSTAMP:20260423T122331
CREATED:20171026T003730Z
LAST-MODIFIED:20171026T003813Z
UID:180-1498071600-1498082400@www.altepost.jugendinemden.de
SUMMARY:School's out Party
DESCRIPTION:
URL:https://www.altepost.jugendinemden.de/event/schools-out-party/
LOCATION:Alte Post – Zentrum für junge Menschen\, Cirksenastraße 2a\, Emden\, Niedersachsen\, 26721\, Deutschland
CATEGORIES:Disco
ATTACH;FMTTYPE=image/png:https://www.altepost.jugendinemden.de/wp-content/uploads/sites/4/2017/10/FB-VA-BILD_Schoolsout.png
END:VEVENT
END:VCALENDAR