BEGIN:VCALENDAR
VERSION:2.0
PRODID:-//Alte Post - Bereich Jugendzentrum - ECPv5.16.1//NONSGML v1.0//EN
CALSCALE:GREGORIAN
METHOD:PUBLISH
X-WR-CALNAME:Alte Post - Bereich Jugendzentrum
X-ORIGINAL-URL:https://www.altepost.jugendinemden.de
X-WR-CALDESC:Veranstaltungen für Alte Post - Bereich Jugendzentrum
BEGIN:VTIMEZONE
TZID:Europe/Berlin
BEGIN:DAYLIGHT
TZOFFSETFROM:+0100
TZOFFSETTO:+0200
TZNAME:CEST
DTSTART:20170326T010000
END:DAYLIGHT
BEGIN:STANDARD
TZOFFSETFROM:+0200
TZOFFSETTO:+0100
TZNAME:CET
DTSTART:20171029T010000
END:STANDARD
END:VTIMEZONE
BEGIN:VEVENT
DTSTART;TZID=Europe/Berlin:20170506T193000
DTEND;TZID=Europe/Berlin:20170506T233000
DTSTAMP:20260422T203831
CREATED:20171026T002351Z
LAST-MODIFIED:20171026T002351Z
UID:166-1494099000-1494113400@www.altepost.jugendinemden.de
SUMMARY:Erzengel up de Mür
DESCRIPTION:Am 06.05. wird es in der Alte Post Emden international\, denn wir veranstalten ein „kleines“ Festival mit dem Namen „Erzengel up de Mür“\, welches im Rahmen eines Kulturaustausches mit der Emder Partnerstadt Archangelsk stattfindet.\nDabei freuen wir uns besonders auf die Band BLIND VANDAL“ aus Archangelsk (Russland). Außerdem werden auch die beiden Emder Bands Breaking Samsara und PUNX ‚N POETS spielen.\nIm Gegenzug werden Breaking Samsara im kommenden Herbst beim „Belomor Boogie“ Festival in Archangelsk zu Gast sein. \nTickets wird es nur an der Abendkasse für nur 3€ geben.
URL:https://www.altepost.jugendinemden.de/event/erzengel-up-de-muer/
LOCATION:Alte Post – Zentrum für junge Menschen\, Cirksenastraße 2a\, Emden\, Niedersachsen\, 26721\, Deutschland
END:VEVENT
END:VCALENDAR