BEGIN:VCALENDAR
VERSION:2.0
PRODID:-//Alte Post - Bereich Jugendzentrum - ECPv5.16.1//NONSGML v1.0//EN
CALSCALE:GREGORIAN
METHOD:PUBLISH
X-WR-CALNAME:Alte Post - Bereich Jugendzentrum
X-ORIGINAL-URL:https://www.altepost.jugendinemden.de
X-WR-CALDESC:Veranstaltungen für Alte Post - Bereich Jugendzentrum
BEGIN:VTIMEZONE
TZID:Europe/Berlin
BEGIN:DAYLIGHT
TZOFFSETFROM:+0100
TZOFFSETTO:+0200
TZNAME:CEST
DTSTART:20160327T010000
END:DAYLIGHT
BEGIN:STANDARD
TZOFFSETFROM:+0200
TZOFFSETTO:+0100
TZNAME:CET
DTSTART:20161030T010000
END:STANDARD
END:VTIMEZONE
BEGIN:VEVENT
DTSTART;TZID=Europe/Berlin:20161028T200000
DTEND;TZID=Europe/Berlin:20161028T200000
DTSTAMP:20260422T235323
CREATED:20161012T133720Z
LAST-MODIFIED:20171026T001803Z
UID:37-1477684800-1477684800@www.altepost.jugendinemden.de
SUMMARY:Boppin´B
DESCRIPTION:
URL:https://www.altepost.jugendinemden.de/event/boppinb/
LOCATION:Alte Post – Zentrum für junge Menschen\, Cirksenastraße 2a\, Emden\, Niedersachsen\, 26721\, Deutschland
CATEGORIES:Konzert
ATTACH;FMTTYPE=image/jpeg:https://www.altepost.jugendinemden.de/wp-content/uploads/sites/4/2016/10/BoppinB_Pressefoto2015-e1476279416299.jpg
END:VEVENT
END:VCALENDAR