BEGIN:VCALENDAR
VERSION:2.0
PRODID:-//Alte Post - Bereich Jugendzentrum - ECPv5.16.1//NONSGML v1.0//EN
CALSCALE:GREGORIAN
METHOD:PUBLISH
X-WR-CALNAME:Alte Post - Bereich Jugendzentrum
X-ORIGINAL-URL:https://www.altepost.jugendinemden.de
X-WR-CALDESC:Veranstaltungen für Alte Post - Bereich Jugendzentrum
BEGIN:VTIMEZONE
TZID:Europe/Berlin
BEGIN:DAYLIGHT
TZOFFSETFROM:+0100
TZOFFSETTO:+0200
TZNAME:CEST
DTSTART:20170326T010000
END:DAYLIGHT
BEGIN:STANDARD
TZOFFSETFROM:+0200
TZOFFSETTO:+0100
TZNAME:CET
DTSTART:20171029T010000
END:STANDARD
END:VTIMEZONE
BEGIN:VEVENT
DTSTART;TZID=Europe/Berlin:20170309T200000
DTEND;TZID=Europe/Berlin:20170309T230000
DTSTAMP:20260422T220059
CREATED:20170127T200557Z
LAST-MODIFIED:20171026T001855Z
UID:81-1489089600-1489100400@www.altepost.jugendinemden.de
SUMMARY:5. Kleinkunstpreis Ostfriesland
DESCRIPTION:+ MURZARELLA / OLAF BOSSI / GITTI RÜSING / MARCEL KÖSLING +\nDie Ostfriesen-Zeitung vergibt mit Unterstützung „Arbeitsgemeinschaft der ostfriesischen Sparkassen“\, den „5. Kleinkunstpreis Ostfriesland 2017“.\nDer Preis ist mit 2.000 Euro dotiert.\nVier tolle Künstler aus den Bereichen Comedy\, Varieté\, Puppenspieler\,\nLiedermacher und Zauberer treten gegeneinander an. Bei dieser unterhaltsamen Mischung bleibt garantiert kein Auge trocken.\nDas Publikum entscheidet wer in das\nFinale am 06.05.17 in Leer/Theater an der Blinke einzieht. Moderiert wird\nder Abend von Holger Müller und seinem Alterego Ausbilder Schmidt. \nSabine Murza\, Puppenspielerin\nOlaf Bossi\, Satiriker\nGitti Rüsing\, Chanson\, Kabarett\nMarcel Kösiling\, Comedy Zauberer .\nEs gibt 3 Hauptrunden\, die Termine für 2017 sind:\nam 16.02.2017 in Leer\, Kulturspeicher\,\nam 02.03.2017 in Aurich\, Stadthalle-Foyer\nund am 09.03.2017 in Emden\, Alte Post.
URL:https://www.altepost.jugendinemden.de/event/5-kleinkunstpreis-ostfriesland/
LOCATION:Alte Post – Zentrum für junge Menschen\, Cirksenastraße 2a\, Emden\, Niedersachsen\, 26721\, Deutschland
ATTACH;FMTTYPE=image/png:https://www.altepost.jugendinemden.de/wp-content/uploads/sites/4/2017/01/170309-ausbilder-schmidt.png
END:VEVENT
END:VCALENDAR