BEGIN:VCALENDAR
VERSION:2.0
PRODID:-//Alte Post - Bereich Jugendzentrum - ECPv5.16.1//NONSGML v1.0//EN
CALSCALE:GREGORIAN
METHOD:PUBLISH
X-WR-CALNAME:Alte Post - Bereich Jugendzentrum
X-ORIGINAL-URL:https://www.altepost.jugendinemden.de
X-WR-CALDESC:Veranstaltungen für Alte Post - Bereich Jugendzentrum
BEGIN:VTIMEZONE
TZID:Europe/Berlin
BEGIN:DAYLIGHT
TZOFFSETFROM:+0100
TZOFFSETTO:+0200
TZNAME:CEST
DTSTART:20160327T010000
END:DAYLIGHT
BEGIN:STANDARD
TZOFFSETFROM:+0200
TZOFFSETTO:+0100
TZNAME:CET
DTSTART:20161030T010000
END:STANDARD
END:VTIMEZONE
BEGIN:VEVENT
DTSTART;TZID=Europe/Berlin:20160819T200000
DTEND;TZID=Europe/Berlin:20160820T000000
DTSTAMP:20260422T222053
CREATED:20160817T095402Z
LAST-MODIFIED:20171026T001743Z
UID:17-1471636800-1471651200@www.altepost.jugendinemden.de
SUMMARY:10 Jahre Barroom Heroes + Die Fliesenleger/Drugstop
DESCRIPTION:10 Barroom Heroes + Die Fliesenleger & Drugstop\n\n\nDie Barroom Heroes aus Emden feiern ihr 10-Jähriges Bestehen und die Alte Post lädt ein ordentlich mitzufeiern. Im Gepäck hat die Band ihr aktuelles Album „Leaving“! 15 Punkrock-Hymnen denen es weder an Melodie\, noch an einer ordentlichen Portion Rotz fehlt! Die 2006 gegründete Band ist seit ihrer Gründung viel live im In- und Umland unterwegs und spielte neben unzähligen Supportgigs für Bands wie Roger Miret & The Disasters\, Civet\, Far From Finished\, Street Dogs\, The Briggs\, Born To Lose\, DOA\, Subhumans\, Radio Dead Ones\, Real McKenzies und vielen anderen auch Headliner- und Festivalshows. \nAls Support werden an diesem Abend mit „Drugstop“ und „die Fliesenleger“ zwei weitere Bands aus der Region auf der Bühne stehen und es ordentlich krachen lassen. \n\nFacebook: https://www.facebook.com/events/923058557805052\n\n\n\nVorverkauf: Kulturbüro\, Emder Zeitung\, Café Einstein\, Colours\, Alte Post
URL:https://www.altepost.jugendinemden.de/event/10-jahre-barroom-heroes-die-fliesenlegerdrugstop/
LOCATION:Alte Post – Zentrum für junge Menschen\, Cirksenastraße 2a\, Emden\, Niedersachsen\, 26721\, Deutschland
CATEGORIES:Konzert
ATTACH;FMTTYPE=image/jpeg:https://www.altepost.jugendinemden.de/wp-content/uploads/sites/4/2016/08/barroom-heroes-big.jpg
END:VEVENT
END:VCALENDAR